BEGIN:VCALENDAR
VERSION:2.0
PRODID:-//Library Market//iCal Export//EN
BEGIN:VEVENT
SUMMARY:Magical Balloon Guy The Balloon-saurus Show
UID:47928
DTSTAMP:20260426T003200Z
DTSTART:20260619T190000Z
DTEND:20260619T200000Z
LOCATION:201 N Ector Dr, Euless, TX 76039, United States
ROOM: Meeting Room AB
DESCRIPTION:Dig into a high-energy prehistoric adventure with The Balloon-
 osaurus Show, where dazzling balloon dinosaurs, magic, and interactive pup
 petry bring paleontology to life for kids and families.
URL:https://eulesslibrary.librarycalendar.com/index.php/event/src-performe
 r-open-47928
END:VEVENT
END:VCALENDAR
