BEGIN:VCALENDAR
VERSION:2.0
PRODID:-//Library Market//iCal Export//EN
BEGIN:VEVENT
SUMMARY:Heard Museum Animal Ambassadors Show
UID:47931
DTSTAMP:20260425T225000Z
DTSTART:20260717T190000Z
DTEND:20260717T200000Z
LOCATION:201 N Ector Dr, Euless, TX 76039, United States
ROOM: Meeting Room AB
DESCRIPTION:Discover the fascinating world of wildlife with live Animal Am
 bassadors from the Heard Natural Science Museum &amp; Wildlife Sanctuary i
 n this engaging, up-close learning experience.
URL:https://eulesslibrary.librarycalendar.com/index.php/event/src-performe
 r-heard-museum-47931
END:VEVENT
END:VCALENDAR
