BEGIN:VCALENDAR
VERSION:2.0
PRODID:-//Library Market//iCal Export//EN
BEGIN:VEVENT
SUMMARY:End of Summer Bash
UID:47933
DTSTAMP:20260425T132200Z
DTSTART:20260801T003000Z
DTEND:20260801T023000Z
LOCATION:201 N Ector Dr, Euless, TX 76039, United States
ROOM: Meeting Room AB
DESCRIPTION:🎉📚💦 End of Summer Bash – Dive Into the Celebration!
  ☀️🌊Summer readers, it’s time to make a splash! Log your reading 
 minutes and earn your exclusive invitation to our End of Summer Bash at th
 e Euless Family Life Aquatic Park —where we’ll celebrate YOU and your 
 amazing reading achievements!Log your reading minutes by July 31 to receiv
 e your exclusive invitation! Don’t miss this unforgettable summer send-o
 ff!
URL:https://eulesslibrary.librarycalendar.com/index.php/event/end-summer-b
 ash-47933
END:VEVENT
END:VCALENDAR
