BEGIN:VCALENDAR
VERSION:2.0
PRODID:-//Library Market//iCal Export//EN
BEGIN:VEVENT
SUMMARY:Kids&#039; Discovery Hour
UID:49979
DTSTAMP:20260425T132200Z
DTSTART:20260715T210000Z
DTEND:20260715T220000Z
LOCATION:201 N Ector Dr, Euless, TX 76039, United States
ROOM: Workspace
DESCRIPTION:Join us every week for a brand-new adventure! 🎉 From silly 
 games and fun crafts to cool science experiments and awesome surprises, th
 ere’s always something exciting to do. Come play, create, and explore wi
 th us—you won’t want to miss the fun! 🌟
URL:https://eulesslibrary.librarycalendar.com/index.php/event/kids-discove
 ry-hour-49979
END:VEVENT
END:VCALENDAR
