BEGIN:VCALENDAR
VERSION:2.0
PRODID:-//Library Market//iCal Export//EN
BEGIN:VEVENT
SUMMARY:Tween/Teen Lock-In Renaissance Festival
UID:47929
DTSTAMP:20260426T025500Z
DTSTART:20260626T230000Z
DTEND:20260627T010000Z
LOCATION:201 N Ector Dr, Euless, TX 76039, United States
ROOM: Meeting Room AB
DESCRIPTION:Step into the past at our Teen/Tween Renaissance Festival Lock
 -In, an after-hours adventure filled with medieval games, crafts, and imme
 rsive fun fit for royalty. Only for grades 4-12.
URL:https://eulesslibrary.librarycalendar.com/event/tweenteen-lock-47929
END:VEVENT
END:VCALENDAR
