BEGIN:VCALENDAR
VERSION:2.0
PRODID:-//Library Market//iCal Export//EN
BEGIN:VEVENT
SUMMARY:Bernie the Bug Lady What&#039;s Buggin You? Show
UID:47930
DTSTAMP:20260425T132200Z
DTSTART:20260710T190000Z
DTEND:20260710T200000Z
LOCATION:201 N Ector Dr, Euless, TX 76039, United States
ROOM: Meeting Room AB
DESCRIPTION:Get up close with fascinating creepy-crawlies in this lively, 
 educational show with Bernie the Bug Lady, blending humor, hands-on encoun
 ters, and amazing insect facts.
URL:https://eulesslibrary.librarycalendar.com/event/src-performer-open-479
 30
END:VEVENT
END:VCALENDAR
