BEGIN:VCALENDAR
VERSION:2.0
PRODID:-//Library Market//iCal Export//EN
BEGIN:VEVENT
SUMMARY:Computer Classes
UID:49911
DTSTAMP:20260420T205500Z
DTSTART:20260701T150000Z
DTEND:20260701T163000Z
LOCATION:201 N Ector Dr, Euless, TX 76039, United States
ROOM: Classroom 3
DESCRIPTION:ðŸ’»âœ¨ FREE Computer Classes with Goodwill North Central Texa
 s! âœ¨ðŸ’»Want to improve your computer skills? Weâ€™ve got you covered! L
 earn Internet and email basics in a hands-on, supportive environment. Whet
 her you&#039;re job hunting, building digital skills, or just getting star
 tedâ€”these classes are for YOU!ðŸ“… July 1â€“ Internet BasicsðŸ“… July 22
  â€“ Email BasicsðŸ“Œ Please note: Goodwill North Central Texas has update
 d its policy. All participants are now required to provide a valid driverâ
 €™s license. IDs will be scanned prior to the start of class.We look forwa
 rd to seeing you there!
URL:https://eulesslibrary.librarycalendar.com/event/computer-classes-49911
END:VEVENT
END:VCALENDAR
